BEGIN:VCALENDAR
VERSION:2.0
PRODID:icalendar-ruby
CALSCALE:GREGORIAN
METHOD:PUBLISH
BEGIN:VEVENT
DTSTAMP:20260425T131659Z
UID:19-1561332@crenshawumc.net
DTSTART:20260505T223000Z
DTEND:20260505T233000Z
CLASS:PUBLIC
CREATED:20260416T153910
DESCRIPTION:
LAST-MODIFIED:20260416T153910
LOCATION:Crenshaw United Methodist Church 
SUMMARY:United Methodist Men
URL;VALUE=URI:https://www.crenshawumc.net/events/united-methodist-men/2026-
 05-05
END:VEVENT
END:VCALENDAR
